BEGIN:VCALENDAR
VERSION:2.0
PRODID:-//Schutterij St. Laurentius Spaubeek - ECPv6.15.16//NONSGML v1.0//EN
CALSCALE:GREGORIAN
METHOD:PUBLISH
X-WR-CALNAME:Schutterij St. Laurentius Spaubeek
X-ORIGINAL-URL:https://schutterijspaubeek.nl
X-WR-CALDESC:Evenementen voor Schutterij St. Laurentius Spaubeek
REFRESH-INTERVAL;VALUE=DURATION:PT1H
X-Robots-Tag:noindex
X-PUBLISHED-TTL:PT1H
BEGIN:VTIMEZONE
TZID:Europe/Amsterdam
BEGIN:DAYLIGHT
TZOFFSETFROM:+0100
TZOFFSETTO:+0200
TZNAME:CEST
DTSTART:20220327T010000
END:DAYLIGHT
BEGIN:STANDARD
TZOFFSETFROM:+0200
TZOFFSETTO:+0100
TZNAME:CET
DTSTART:20221030T010000
END:STANDARD
BEGIN:DAYLIGHT
TZOFFSETFROM:+0100
TZOFFSETTO:+0200
TZNAME:CEST
DTSTART:20230326T010000
END:DAYLIGHT
BEGIN:STANDARD
TZOFFSETFROM:+0200
TZOFFSETTO:+0100
TZNAME:CET
DTSTART:20231029T010000
END:STANDARD
BEGIN:DAYLIGHT
TZOFFSETFROM:+0100
TZOFFSETTO:+0200
TZNAME:CEST
DTSTART:20240331T010000
END:DAYLIGHT
BEGIN:STANDARD
TZOFFSETFROM:+0200
TZOFFSETTO:+0100
TZNAME:CET
DTSTART:20241027T010000
END:STANDARD
END:VTIMEZONE
BEGIN:VEVENT
DTSTART;VALUE=DATE:20230521
DTEND;VALUE=DATE:20230522
DTSTAMP:20260419T155729
CREATED:20230104T165520Z
LAST-MODIFIED:20230104T165520Z
UID:2041-1684627200-1684713599@schutterijspaubeek.nl
SUMMARY:Bondsschuttersfeest Brunssum
DESCRIPTION:Bondsschuttersfeest Brunssum
URL:https://schutterijspaubeek.nl/event/bondsschuttersfeest-brunssum/
LOCATION:brunssum vijverpark\, Vijverpark\, Brunssum
END:VEVENT
BEGIN:VEVENT
DTSTART;TZID=Europe/Amsterdam:20230410T080000
DTEND;TZID=Europe/Amsterdam:20230410T170000
DTSTAMP:20260419T155729
CREATED:20230104T160239Z
LAST-MODIFIED:20230319T133824Z
UID:2036-1681113600-1681146000@schutterijspaubeek.nl
SUMMARY:Koningsvogelschieten 2023
DESCRIPTION:Op deze dag zal voor de schutters van onze Schutterij wederom het jaarlijkse Koningsvogelschieten plaatsvinden. \nWe beginnen de dag met een Schuttersmis en zullen vervolgens richting het kerkhof gaan om aldaar overleden schutters te eren. \nIn de middag zal onze huidige koning thuis worden opgehaald om vervolgens in en nabij ’t Hof van Sjpaubik en cafe Spech \n  \nSCHUTTERIJ ST. LAURENTIUS SPAUBEEK-2
URL:https://schutterijspaubeek.nl/event/koningsvogelschieten-2023/
LOCATION:’t hof van Sjpaubik\, Musschenberg\, Spaubeek
ATTACH;FMTTYPE=application/pdf:https://schutterijspaubeek.nl/wp-content/uploads/2023/01/SCHUTTERIJ-ST.-LAURENTIUS-SPAUBEEK-2.pdf
END:VEVENT
END:VCALENDAR